BEGIN:VCALENDAR
VERSION:2.0
PRODID:-//300MOB - ECPv6.15.17//NONSGML v1.0//EN
CALSCALE:GREGORIAN
METHOD:PUBLISH
X-ORIGINAL-URL:https://300mob.com
X-WR-CALDESC:Events for 300MOB
REFRESH-INTERVAL;VALUE=DURATION:PT1H
X-Robots-Tag:noindex
X-PUBLISHED-TTL:PT1H
BEGIN:VTIMEZONE
TZID:Europe/London
BEGIN:DAYLIGHT
TZOFFSETFROM:+0000
TZOFFSETTO:+0100
TZNAME:BST
DTSTART:20240331T010000
END:DAYLIGHT
BEGIN:STANDARD
TZOFFSETFROM:+0100
TZOFFSETTO:+0000
TZNAME:GMT
DTSTART:20241027T010000
END:STANDARD
BEGIN:DAYLIGHT
TZOFFSETFROM:+0000
TZOFFSETTO:+0100
TZNAME:BST
DTSTART:20250330T010000
END:DAYLIGHT
BEGIN:STANDARD
TZOFFSETFROM:+0100
TZOFFSETTO:+0000
TZNAME:GMT
DTSTART:20251026T010000
END:STANDARD
BEGIN:DAYLIGHT
TZOFFSETFROM:+0000
TZOFFSETTO:+0100
TZNAME:BST
DTSTART:20260329T010000
END:DAYLIGHT
BEGIN:STANDARD
TZOFFSETFROM:+0100
TZOFFSETTO:+0000
TZNAME:GMT
DTSTART:20261025T010000
END:STANDARD
BEGIN:DAYLIGHT
TZOFFSETFROM:+0000
TZOFFSETTO:+0100
TZNAME:BST
DTSTART:20270328T010000
END:DAYLIGHT
BEGIN:STANDARD
TZOFFSETFROM:+0100
TZOFFSETTO:+0000
TZNAME:GMT
DTSTART:20271031T010000
END:STANDARD
END:VTIMEZONE
BEGIN:VEVENT
DTSTART;TZID=Europe/London:20260403T170000
DTEND;TZID=Europe/London:20260406T180000
DTSTAMP:20260420T074422
CREATED:20260314T234806Z
LAST-MODIFIED:20260314T234806Z
UID:906-1775235600-1775498400@300mob.com
SUMMARY:A Highland Fling
DESCRIPTION:A weekend run through some of Scotland’s scenic beauty! \nWe meet on the Good Friday 3rd April\, overnight at the hotel\, Saturday 4th at 10am\, the fun and frolics start\, heading North along Loch Lomond\, Crianlarich\, Tyndrum\, Rannoch Moor\, Glen Coe\, to Fort William\, various stops for food/coffee/ photos along the way\, we’ll overnight here then on Sunday 5th\, we continue our scenic trip again ending near Stirling\, again lots of stops for food and photos along the way\, visits to view points and historical sites throughout the journey\, you can decide at this point to leave the group or decide to stay for the final visits on the Monday morning before heading home. \nTrophies for :- Furthest Travelled to the start point\, and of course Best Car! \nWe have chosen the following Hotels for ease of access and affordability \nDumbarton Travelodge:- 08719 846133 . \nFort William Travelodge:- 08719 846419. \nStirling Travelodge:- M80\, 08719 846178. \nPremier Inn J9 M80:- 0333 3219031. \nWe don’t ask a fee but we will be collecting for charity\, To be decided\, If you wish to attend click on “Going” let us know and most importantly BOOK YOUR ROOMS NOW!!! note Travelodge at M80 is fully booked\, rooms available at Stirling central Travelodge!!!
URL:https://300mob.com/event/a-highland-fling/
LOCATION:Working
CATEGORIES:Road Trip
ATTACH;FMTTYPE=image/png:https://300mob.com/wp-content/uploads/2026/03/Screenshot-2026-03-14-234736.png
END:VEVENT
BEGIN:VEVENT
DTSTART;TZID=Europe/London:20260403T100000
DTEND;TZID=Europe/London:20260403T163000
DTSTAMP:20260420T074422
CREATED:20260314T234113Z
LAST-MODIFIED:20260407T205250Z
UID:899-1775210400-1775233800@300mob.com
SUMMARY:Wheelsday 51
DESCRIPTION:General Info\n\nWhen is Wheels Day ? – Wheels Day is held every year on Good Friday. In 2026 that’s 3rd April.\nWhere is Wheels Day held ? – Our New Home is the NEWBURY SHOWGROUND.\nWhat is the PostCode? Please use RG18 9QZ. Once you get near the show there will be signs on the road.\nAre dogs allowed ? – Dogs are allowed on a lead ONLY! Please be responsible and clean up after them. Please act responsibly. You are solely liable for any damages caused by your animal.\nAnything else ? – Animals and children are the responsibility of their parent/guardian/owners.\n\nGeneral Public\n\nHow much is it ? – Digital tickets can be purchased in advance at £8 for Adults. You will need to bring a copy of the ticket with you on the day to gain access. Public admission on the day is £10 Adults\, Free for under 16s\nHow do I pay? – Entry for the general public (those not paying to show cars) is via pedestrian gates where you pay upon entry.\nDo you take card payments? – No\, the entry gates can only accept cash. Please make sure you have cash on you please.\nIs there disabled parking? – There is limited disabled parking\, show your Blue Badge to the marshals as you come in and they will direct you.\nShow Time ? – 10AM – 4:30PM\n\nShow Cars\n\nHow much is it ? – £10 for a pre-registered Single Car Arena Pass and £20 on the day (Subject to availability).This gives entry to the show car\, driver and 1 passenger.\nHow much for extra passengers in Arena Cars ? – £5 each (paid on the gate)\nDo you take card payments? – As always\, we accept payment via PayPal and Credit/Debit Cards in advance. Additional passenger pay on the gate in cash.\nCan I pay on the day to show my car ? – Yes\, space is limited so entry is on a first come first served basis until all space is gone. Pay on the day is £20.\nGates open ? – 8:30AM to 10AM\nParking surface ? – The Show Arena is a mix of hard standing and grass areas. There is no guarantee of hard standing at this venue for show cars\, please bare this in mind when applying\, arriving and attending.\nShow closes ? – 4:30PM followed by prize giving.\nAnything else ? – Vehicles entering and leaving the show ground are restricted to a maximum of walking speed (approx. 4mph) and the minimum movement of vehicles is permitted during the show until after it finishes at 4:30PM.\n\nMotorcycles\n\nHow much is it ? – £5 on the gate.\nDo you take card payments? – Unfortunately we can only accept cash.\nParking surface ? – Motorcycles will be parked on a solid grass area to the side of the show arena.\nAnything else ? – Motorcycles entering and leaving the show ground are restricted to a maximum of walking speed (approx. 4mph) and the minimum movement of vehicles is permitted during the show until after it finishes at 4:30PM.
URL:https://300mob.com/event/wheelsday-51/
LOCATION:Newbury Showground\, Priors Ct Rd\, Hermitage\, Thatcham\, RG18 9QZ\, United Kingdom
CATEGORIES:Club Stand,Event
ATTACH;FMTTYPE=image/jpeg:https://300mob.com/wp-content/uploads/2026/03/20240329_115509-1024x577-1.jpg
END:VEVENT
BEGIN:VEVENT
DTSTART;VALUE=DATE:20260321
DTEND;VALUE=DATE:20260322
DTSTAMP:20260420T074422
CREATED:20260314T233120Z
LAST-MODIFIED:20260314T233158Z
UID:892-1774051200-1774137599@300mob.com
SUMMARY:Limes Cafe MOB Meet
DESCRIPTION:Feel free to come to my first mob meet for those around the area and for those who are willing to travel..\n\nThis is a gravel parking lot so please be wary of wheel spin!! all the staff ask is we be respectful and you buy some food or drink!\n\nTthe time is set at 12pm but you can come early\, it just save most of you waking up at 3am to travel for 9am for example
URL:https://300mob.com/event/limes-cafe-mob-meet/
LOCATION:The Limes Cafe\, Old Rufford Road\, Bilsthorpe\, Newark\, NG22 8TH\, United Kingdom
CATEGORIES:Local Meet
ATTACH;FMTTYPE=image/png:https://300mob.com/wp-content/uploads/2026/03/Screenshot-2026-03-14-233042.png
END:VEVENT
BEGIN:VEVENT
DTSTART;VALUE=DATE:20250824
DTEND;VALUE=DATE:20250825
DTSTAMP:20260420T074422
CREATED:20250727T173511Z
LAST-MODIFIED:20250727T173621Z
UID:132-1755993600-1756079999@300mob.com
SUMMARY:Cruise Culture 2025
DESCRIPTION:Cruise Culture is back for 2025 and we’ve got a MOB stand booked!! We only had 4 cars show up out of the 8 that showed interest so let’s get a proper MOB presence this year\nJoin us for our action packed day at Cruise Culture – Sunday 24th August 2025 at Carmarthen Showground\, Carmarthen\, SA33 5DR.\n\n\nCheck out whats on:\n\nUltimate Indoor Show Hall & Modified Show and ShineClub StandsTrade StandsCar CompetitionsLive Entertainment StageAccelerate Live Interview StageSUB5 Super Car DisplayRC Drift Car DisplayWOT Power Rolling Road\nRed Dragon Monster Truck Rides\nJamie Squibb FMX DisplayExtreme Bike Battle: BMX Stunt ShowExtreme Bike Battle: Trials ShowMini Movie TrucksApex Race Rooms SimulatorsFun Fair\nFire Service Display157 (Welsh) Regiment RLC Army DisplayFood VillageAwards
URL:https://300mob.com/event/cruise-culture-2025/
LOCATION:Carmarthen Showground\, The Showground\, Nantyci\, Carmarthen\, Carmarthen\, United Kingdom
CATEGORIES:Club Stand
ATTACH;FMTTYPE=image/png:https://300mob.com/wp-content/uploads/2025/07/image-960x676-1.png
END:VEVENT
BEGIN:VEVENT
DTSTART;VALUE=DATE:20250817
DTEND;VALUE=DATE:20250818
DTSTAMP:20260420T074422
CREATED:20250727T165536Z
LAST-MODIFIED:20250727T170452Z
UID:84-1755388800-1755475199@300mob.com
SUMMARY:Tatcon Blackpool: Car Show & Tattoo Convention
DESCRIPTION:
URL:https://300mob.com/event/tatcon-blackpool-car-show-tattoo-convention/
LOCATION:Norbreck Castle Hotel\, 256-258 Queen's Promenade\, Blackpool\, FY2 9\, United Kingdom\, Blackpool\, United Kingdom
CATEGORIES:Club Stand
ATTACH;FMTTYPE=image/jpeg:https://300mob.com/wp-content/uploads/2025/07/Carshow-Flyer-2025-scaled-550x785-1.jpg
END:VEVENT
END:VCALENDAR