BEGIN:VCALENDAR
VERSION:2.0
PRODID:-//300MOB - ECPv6.15.17//NONSGML v1.0//EN
CALSCALE:GREGORIAN
METHOD:PUBLISH
X-ORIGINAL-URL:https://300mob.com
X-WR-CALDESC:Events for 300MOB
REFRESH-INTERVAL;VALUE=DURATION:PT1H
X-Robots-Tag:noindex
X-PUBLISHED-TTL:PT1H
BEGIN:VTIMEZONE
TZID:Europe/London
BEGIN:DAYLIGHT
TZOFFSETFROM:+0000
TZOFFSETTO:+0100
TZNAME:BST
DTSTART:20250330T010000
END:DAYLIGHT
BEGIN:STANDARD
TZOFFSETFROM:+0100
TZOFFSETTO:+0000
TZNAME:GMT
DTSTART:20251026T010000
END:STANDARD
BEGIN:DAYLIGHT
TZOFFSETFROM:+0000
TZOFFSETTO:+0100
TZNAME:BST
DTSTART:20260329T010000
END:DAYLIGHT
BEGIN:STANDARD
TZOFFSETFROM:+0100
TZOFFSETTO:+0000
TZNAME:GMT
DTSTART:20261025T010000
END:STANDARD
BEGIN:DAYLIGHT
TZOFFSETFROM:+0000
TZOFFSETTO:+0100
TZNAME:BST
DTSTART:20270328T010000
END:DAYLIGHT
BEGIN:STANDARD
TZOFFSETFROM:+0100
TZOFFSETTO:+0000
TZNAME:GMT
DTSTART:20271031T010000
END:STANDARD
END:VTIMEZONE
BEGIN:VEVENT
DTSTART;VALUE=DATE:20260503
DTEND;VALUE=DATE:20260504
DTSTAMP:20260420T060742
CREATED:20260314T235434Z
LAST-MODIFIED:20260407T205449Z
UID:913-1777766400-1777852799@300mob.com
SUMMARY:BHP Show
DESCRIPTION:Prices are £20 per driverPassengers are £25 each\n\nTo grab yourself a ticket please message me or one of the admins and we will do the rest\, we have a group chat running if you wanted to be added to it.\n\nJoin us with this family fun day out\, something for everyone at this show\, this will be the first MOB visit\, so i hope we can show up and show our colours!\n\nThe date is as shown above\, if you are interested in this event please give me a message directly.
URL:https://300mob.com/event/bhp-show/
LOCATION:Detling Showground\, Detling Showground\, Kent\, ME14 3JF\, United Kingdom
CATEGORIES:Event
ATTACH;FMTTYPE=image/png:https://300mob.com/wp-content/uploads/2026/03/Screenshot-2026-03-14-235202.png
END:VEVENT
BEGIN:VEVENT
DTSTART;TZID=Europe/London:20260517T100000
DTEND;TZID=Europe/London:20260517T170000
DTSTAMP:20260420T060742
CREATED:20260315T000356Z
LAST-MODIFIED:20260315T000356Z
UID:921-1779012000-1779037200@300mob.com
SUMMARY:Chiltern Hills Rally 2026
DESCRIPTION:32nd Annual Static Classic Car show in Buckinghamshire with lots more to do and see for the whole family Sunday 17th May 2026. \nThe Chiltern Hills Rally Classic and Vintage Vehicle Show marks its 32nd anniversary this year. There will be trade stands\, an Autojumble\, children’s rides\, food and drinks\, and a licensed bar. Live entertainment over the day\, a fun dog show\, and a dog-friendly atmosphere are also part of the event. Children under 12 can enter for free if accompanied by an adult.
URL:https://300mob.com/event/chiltern-hills-rally-2026/
LOCATION:New Rd\, Weedon\, New Road\, Weedon\, Aylesbury\, HP22 4NN\, United Kingdom
CATEGORIES:Event
ATTACH;FMTTYPE=image/webp:https://300mob.com/wp-content/uploads/2026/03/rsw_600h_800cg_true.webp
END:VEVENT
BEGIN:VEVENT
DTSTART;TZID=Europe/London:20260524T100000
DTEND;TZID=Europe/London:20260524T170000
DTSTAMP:20260420T060742
CREATED:20260315T001007Z
LAST-MODIFIED:20260315T001007Z
UID:927-1779616800-1779642000@300mob.com
SUMMARY:Chryslers At Brooklands
DESCRIPTION:Sunday 24th May\n\n£19.99 entry (access to Brooklands museum AND Mercedes Benz World)\n\nIdeally need to know numbers by January 14th so we can get a stand booked.\n\nThis will be a joint event with Chrysler Crossfire Owners UK\n\n\nCelebrate Chrysler style and heritage at the Chrysler at Brooklands Day! \nNow in its 22nd year\, this iconic event proudly hosts one of the biggest static gatherings of Mopars in the UK\, showcasing everything from classic muscle to modern legends. Bring your car\, admire the line-up and soak up the atmosphere alongside food and entertainment. \nAll American cars are welcome.
URL:https://300mob.com/event/chryslers-at-brooklands/
LOCATION:Brooklands Museum\, KT13 0QN
CATEGORIES:Event,Local Meet
ATTACH;FMTTYPE=image/webp:https://300mob.com/wp-content/uploads/2026/03/brooklands-museum-surrey-mopar-cars-campbell-carpark.webp
END:VEVENT
BEGIN:VEVENT
DTSTART;TZID=Europe/London:20260626T080000
DTEND;TZID=Europe/London:20260628T170000
DTSTAMP:20260420T060742
CREATED:20260315T001626Z
LAST-MODIFIED:20260315T001707Z
UID:931-1782460800-1782666000@300mob.com
SUMMARY:National Hot Rod Car Show 2026
DESCRIPTION:The ultimate retro car festival weekend! Full of Hot Rods\, American classics & customs\, live music\, shows & thrills! \n\n\n\n\nStep into a world of custom chrome\, curves\, whitewall tyres and pure nostalgia at the Hot Rod Custom and American Car Show 2026 – the UK’s must-attend celebration of roaring hot rods\, wild American classics\, slammed customs\, jaw-dropping lowriders\, pre 1980 classics and top tier retro automotive culture. \nThis isn’t just a car show: \nIt’s a full-throttle festival weekender of vintage steel\, rock ’n’ roll attitude and timeless craftsmanship! \nIf you live and breathe anything automotive – this is the show you simply cannot miss! \n🎟️ WHAT’S INCLUDED IN YOUR TICKET? \n🚗 Hot Rod\, Custom & American Car Show – Hot Rods\, American Classics\, Customs\, Lowriders\, Rat Rods & more \n🖋️ Ink & Oil Tattoo Convention – Top tattoo artists and incredible body art culture. \n🚗 A SHOW DEDICATED TO THE GOLDEN ERA: \nThe Hot Rod\, Custom and American Car Show proudly showcases: \n🔥 Period-Correct Hot Rods & Street Rods\n🇺🇸 Iconic American Classics & Muscle Cars\n💎 Stunning Pre-1980 Customs\n🛞 Hydraulic-Hopping Lowriders\n🧨 Raw & Rebellious Rat Rods\n🖋️ Ink & Oil Tattoo Convention – Incredible Body Art Culture\n✨ Custom Paint\, Pinstriping\, Airbrushing & Metal Fabrication Artistry. \n🏆 CARS\, CLUBS & COMPETITIONS: \n🚘 Huge club displays & themed show fields\n🏁 Drive-in show vehicle area\n🏆 Show & Shine trophies\n👑 Ultimate Show Car competition\n🎨 Paintwork\, fabrication & custom culture inspiration everywhere you look\n🚦 Lowrider limbo contests. \n💥 EXTREME ACTION & SHOWGROUND THRILLS: \n🛻 Monster Truck rides\n🛞 Wall of Death – old-school daredevil madness\n✈️ Stunt plane aerobatic displays\n🏍️ RC drift displays\n🎡 Funfair rides\n🤼 2x daily live wrestling shows. \n🎤 LIVE ENTERTAINMENT ALL WEEKEND:\n🔥 Fire performers & roaming street entertainment\n🎪 Big Top shows & party atmosphere\n🍻 Licensed bars across the arena. \n👨‍👩‍👧‍👦 FAMILY FRIENDLY FESTIVAL VIBES: \n🎈 Kids inflatables & activity zones\n🎨 Face painting & character meet-and-greets\n🍔 Huge food village\n🛍️ Mega trade village & specialist automotive traders. \nAnd yes… \n👶 Kids 12 & Under GO FREE\n🎟️ Teens 13–16 – discounted to half price! \n🏕️ MAKE A WEEKEND OF IT – Weekend ticket holders can enjoy: \n🏕️ Camping on Friday & Saturday night\n🎧 Evening entertainment & party atmosphere\n🎸 Live Rock\, Rockabilly & Funk bands\n🎶 DJs\, Rave Tent & Silent Disco (Weekend Ticket Exclusive) \n🔥 The full festival experience under the stars. \n⚡ WHY HOT ROD & CUSTOM 2026 IS UNMISSABLE: \nThis is a true celebration of yesteryear automotive culture – where chrome shines brighter\, engines rumble deeper\, and style meant something. \nWhether you’re: \n✔ A die-hard hot rodder\n✔ An American car enthusiast\n✔ A rockabilly culture lover\n✔ A custom paint obsessive\n✔ Or just looking for an unforgettable summer weekend \nThis event delivers serious nostalgia\, serious horsepower\, and serious value for one ticket. \n👑 MORE THAN A CAR SHOW \nIt’s a high-octane fusion of cars\, culture\, music\, ink\, entertainment and community. \n🎟️ Advance tickets recommended – secure the best prices now\n🚀 Get ready to rev it\, rock it and roll it at Hot Rod & Custom Car Show 2026 \n👉 Grab your tickets and join the chrome revolution! \n\n\n 
URL:https://300mob.com/event/national-hot-rod-car-show-2026/
LOCATION:Lincolnshire Showground\, Lincolnshire Showground\, Lincoln\, LN2 2NA\, United Kingdom
CATEGORIES:Event
ATTACH;FMTTYPE=image/webp:https://300mob.com/wp-content/uploads/2026/03/image.webp
END:VEVENT
BEGIN:VEVENT
DTSTART;TZID=Europe/London:20260628T103000
DTEND;TZID=Europe/London:20260628T163000
DTSTAMP:20260420T060742
CREATED:20260315T002139Z
LAST-MODIFIED:20260315T002139Z
UID:936-1782642600-1782664200@300mob.com
SUMMARY:Chesham Auto Show
DESCRIPTION:The Chesham Motor Show 2026 is scheduled for Sunday\, June 28\, 2026\, expanding to include both the High Street for supercars and Lowndes Park for club vehicles\, dealerships\, and a food/fun fair\, with general admission free for spectators but display spots requiring paid tickets via Eventbrite.\n\nGates open at 10:30 AM at the Chesham Showground area\, offering a larger event with more variety and activities than previous years\, according to organizers.\n\nKey Details:\nDate: Sunday\, June 28\, 2026.\nTime: 10:30 AM – 4:30 PM.\nLocations: Chesham High Street & Lowndes Park.\nCost: Free for spectators (donations welcome for Chesham Valley Rotary).\nVehicles: Supercars\, sports cars\, classic cars\, modern vehicles\, motorcycles\, EV displays.\nActivities: Food village\, funfair\, multiple stages.\n\nFor Displaying Vehicles:\nRegister and purchase “display tickets” online via Eventbrite (booking early recommended).
URL:https://300mob.com/event/chesham-auto-show/
LOCATION:Working
CATEGORIES:Event
ATTACH;FMTTYPE=image/png:https://300mob.com/wp-content/uploads/2026/03/Screenshot-2026-03-15-002115.png
END:VEVENT
BEGIN:VEVENT
DTSTART;VALUE=DATE:20260830
DTEND;VALUE=DATE:20260831
DTSTAMP:20260420T060742
CREATED:20260305T020701Z
LAST-MODIFIED:20260305T120027Z
UID:512-1788048000-1788134399@300mob.com
SUMMARY:Cruise Culture 2026
DESCRIPTION:Cruise Culture is back for 2026 and we’ve got a MOB stand booked!! We only had 4 cars show up out of the 8 that showed interest last year so let’s get a proper MOB presence this year!\n \nJoin us for our action packed day at Cruise Culture – Sunday 30th August 2026 at Carmarthen Showground\, Carmarthen\, SA33 5DR.\n \nCheck out whats on:\nWe are back once again for Wales’ Biggest Modified & Performance Car Show\n \nJoin us for our action packed show:\n \n\nNEW FOR 2026 \n\n\n Atv Stunts – Main Arena Display\n Club Stand Competitions – More Info Coming Soon\n New Car Zones – More Info Coming Soon\n New Competitions\n\n\n Ultimate Indoor Show Hall & Modified Show and Shine\n Club Stands\n Trade Stands\n Car Competitions\n Car Audio Sound Off\n\n\n ATV STUNTS – NEW FOR 2026\n Red Dragon Monster Truck Rides\n Extreme Bike Battle: BMX Stunt Show\n Extreme Bike Battle: Trials Show\n\n\n Live Entertainment Stage\n Accelerate YouTube/WOT Power Rolling Road Interview Zone\n RC Drift Car Display\n Apex Race Rooms Simulator Zone\n\n\n Mini movie trucks uk\n Fun Fair\n Fire Service Display\n 157 (Welsh) Regiment RLC Army Display\n Food Village\n Awards\n\n\n\n\nPre- Sale – £10 Per Person + P&P\nGate Price – £15 Per Person\nUnder 12s FREE\n\n\nFREE General Parking for people coming to see the show after paying admission.
URL:https://300mob.com/event/cruise-culture-2026/
LOCATION:Carmarthen Showground\, The Showground\, Nantyci\, Carmarthen\, Carmarthen\, United Kingdom
CATEGORIES:Club Stand
ATTACH;FMTTYPE=image/jpeg:https://300mob.com/wp-content/uploads/2026/03/638134744_965389375813691_6026708683071623143_n.jpg
END:VEVENT
BEGIN:VEVENT
DTSTART;TZID=Europe/London:20260830T100000
DTEND;TZID=Europe/London:20260830T180000
DTSTAMP:20260420T060742
CREATED:20260315T002555Z
LAST-MODIFIED:20260315T002636Z
UID:939-1788084000-1788112800@300mob.com
SUMMARY:Wheels Int' Lakes
DESCRIPTION:Wheels Int Lakes – Automotive Show 2026\nSun 30th August 2026Open: 10am – 4pmCumbria Kart Track\, Rowrah\, CA26 3XU\n\nThis year’s Wheels Int Lakes brings the roar of engines\, the shine of polished paintwork and the automotive community together at one of Cumbria’s best‑kept secrets – Rowrah Go‑Kart Track.\n\nThis show is aimed at anyone who loves ‘Anything with Wheels’: from classic beauties and retro muscle to cutting‑edge tuner builds\, drift machines\, rally‑cars\, motorcycles of all ages\, 4x4s and much more.\n\nThe venue is transformed with Show & Shine beauties\, motoring marvels\, alongside Club stands representing enthusiasts from across the UK plus we have a dedicated ‘Pits Area’ where visitors can get up close with every participating vehicle that’s heading out on the track.\n\nThis is a show NOT to miss off the Calendar. A local 4×4 club will stage live demonstrations\, while a rotating roster of motorsport teams will unleash their most thrilling performances on the Rowrah Circuit.\n\nSpectators can choose from several viewpoints to watch custom builds\, classic cars and high‑performance bikes thunder around the track\, hear the unmistakable scream of revving engines and the smell of fuel.\n\nThe track will open again for an hour slot – “Go‑Kart‑Your‑Heart‑Out” session – a pay‑on‑the‑day experience complete with full training and safety gear\, giving anyone the chance to taste real‑track racing.\n\nAll show participants will be entered into our ‘Show & Shine’ -We have 12 Custom Awards up for grabs and a public vote for the Star of the Show and some added extras too.\nFamilies are at the heart of the event: Children under 12yrs enter for free and can lose themselves in a bustling Kids’ Entertainment Zone\, featuring face‑painting\, giant outdoor games\, a colour‑station and an automotive‑themed scavenger hunt & more.\n\nMeanwhile\, adults can peruse around our Trade Zone – from hand‑made gifts\, premium detailing products to specialist restoration services\, there is something to suite everyone. Plus recharge at the on‑site café or one of the food trucks\, all set against the backdrop of the roaring circuit.\n\nIf you’ve got a prized vehicle gathering dust in the garage\, now is the perfect moment to dust it off\, polish it to perfection and roll it into the celebration of everything that makes wheels wonderful.\n\nOr if you’d like to come along and immerse yourself into the culture of all things automotive – Mark your calendar\, gather the family and join our growing automotive community on 30th August.\n\nWe look forward to seeing you at the track side!
URL:https://300mob.com/event/wheels-int-lakes/
LOCATION:Cumbria Kart Racing Club\, Cumbria Kart Track\, Rowrah\, Working\, CA26 3XU\, United Kingdom
CATEGORIES:Event
ATTACH;FMTTYPE=image/png:https://300mob.com/wp-content/uploads/2026/03/Screenshot-2026-03-15-002540.png
END:VEVENT
END:VCALENDAR